BEGIN:VCALENDAR
PRODID:-//HH//NONSGML Cascade Server//EN
VERSION:2.0
X-WR-CALNAME:Early Acceptance Programs Info Session: PT\, Respiratory & Med Lab Sciences
X-WR-TIMEZONE:America/Chicago
X-WR-CALDESC:
BEGIN:VTIMEZONE
TZID:America/Chicago
BEGIN:DAYLIGHT
TZOFFSETFROM:-0500
TZOFFSETTO:-0400
TZNAME:EDT
DTSTART:19700308T020000
RRULE:FREQ=YEARLY;BYMONTH=3;BYDAY=2SU
END:DAYLIGHT
BEGIN:STANDARD
TZOFFSETFROM:-0400
TZOFFSETTO:-0500
TZNAME:CST
DTSTART:19701101T020000
RRULE:FREQ=YEARLY;BYMONTH=11;BYDAY=1SU
END:STANDARD
END:VTIMEZONE
BEGIN:VEVENT
DTSTART:20260205T170000
DTEND:20260205T180000
DTSTAMP:20260212T141419
UID:5379cefe81736a1b19c75dcd41d5e55a
CREATED:20260212T141017
DESCRIPTION:What you need to know about planning for these Early Acceptanc
 e Programs.
LAST-MODIFIED:20260212T141031
LOCATION:Register in Handshake for virtual link
SEQUENCE:0
STATUS:CONFIRMED
SUMMARY:Early Acceptance Programs Info Session: PT\, Respiratory & Med Lab
  Sciences
TRANSP:OPAQUE
END:VEVENT
END:VCALENDAR
